BEGIN:VCALENDAR
VERSION:2.0
PRODID:-//hacksw/handcal//NONSGML v1.0//EN
BEGIN:VEVENT
DTSTART:20260430T160000Z
DTEND:20260430T180000Z
LOCATION:ENSAB \n44, Boulevard de Chézy \n35064 RENNES
ORGANIZER;CN=Catherine David:MAILTO:observatoire.alumni@rennes.archi.fr
SUMMARY:Valoriser le déjà-là Conférence du collectif Rotor - Géraldine Durieux
DESCRIPTION:Ingénieure civile architecte, Géraldine Durieux explore l’architecture dans sa transversalité, articulant pratique, recherche et enseignement, au carrefour de disciplines telles que l’urbanisme, le...
URL:https://alumni.rennes.archi.fr/fr/event/valoriser-le-deja-la-conference-du-collectif-rotor-geraldine-durieux/2026/04/30/99
BEGIN:VALARM
TRIGGER:-P0DT1H0M0S
ACTION:DISPLAY
END:VALARM
END:VEVENT
END:VCALENDAR